BEGIN:VCALENDAR
VERSION:2.0
PRODID:-//eventon.com NONSGML v1.0//EN
CALSCALE:GREGORIAN
METHOD:PUBLISH
BEGIN:VEVENT
UID:69e5e964d5a24
DTSTAMP:20260420T085252Z
DTSTART:20211209T050000Z
DTEND:20211209T155000Z
LOCATION:
SUMMARY:Teddy Bears Picnic Excursion Rooms 2\,  4 & 5
DESCRIPTION:Teddy Bears Picnic Excursion Rooms 2\,  4 & 5\nhttps://warriape
 ndips.wa.edu.au/events/teddy-bears-picnic-excursion-rooms-2-4-5/
URL:https://warriapendips.wa.edu.au/events/teddy-bears-picnic-excursion-rooms-2-4-5/
END:VEVENT
END:VCALENDAR