BEGIN:VCALENDAR
VERSION:2.0
PRODID:-//eventon.com NONSGML v1.0//EN
CALSCALE:GREGORIAN
METHOD:PUBLISH
BEGIN:VEVENT
UID:69e5fb24527b5
DTSTAMP:20260420T100836Z
DTSTART:20220307
DTEND:20220308
LOCATION:
SUMMARY:Labour Day Public Holiday
DESCRIPTION:Labour Day Public Holiday\nhttps://warriapendips.wa.edu.au/even
 ts/labour-day-public-holiday/
URL:https://warriapendips.wa.edu.au/events/labour-day-public-holiday/
END:VEVENT
END:VCALENDAR