BEGIN:VCALENDAR
VERSION:2.0
PRODID:-//eventon.com NONSGML v1.0//EN
CALSCALE:GREGORIAN
METHOD:PUBLISH
BEGIN:VEVENT
UID:69e5e8c79b22f
DTSTAMP:20260420T085015Z
DTSTART:20211119
DTEND:20211120
LOCATION:
SUMMARY:Spelling Bee
DESCRIPTION:Spelling Bee\nhttps://warriapendips.wa.edu.au/events/spelling-b
 ee/
URL:https://warriapendips.wa.edu.au/events/spelling-bee/
END:VEVENT
END:VCALENDAR