BEGIN:VCALENDAR
VERSION:2.0
PRODID:-//eventon.com NONSGML v1.0//EN
CALSCALE:GREGORIAN
METHOD:PUBLISH
BEGIN:VEVENT
UID:69e5fc20b3af6
DTSTAMP:20260420T101248Z
DTSTART:20211217
DTEND:20211218
LOCATION:
SUMMARY:Staff Development Day
DESCRIPTION:Staff Development Day\nhttps://warriapendips.wa.edu.au/events/s
 taff-development-day-2/
URL:https://warriapendips.wa.edu.au/events/staff-development-day-2/
END:VEVENT
END:VCALENDAR