BEGIN:VCALENDAR
VERSION:2.0
PRODID:-//eventon.com NONSGML v1.0//EN
CALSCALE:GREGORIAN
METHOD:PUBLISH
BEGIN:VEVENT
UID:69e7472b4e79b
DTSTAMP:20260421T094515Z
DTSTART:20211110
DTEND:20211111
LOCATION:
SUMMARY:Kindy 2 Presentation
DESCRIPTION:Kindy 2 Presentation\nhttps://warriapendips.wa.edu.au/events/ki
 ndy-2-presentation/
URL:https://warriapendips.wa.edu.au/events/kindy-2-presentation/
END:VEVENT
END:VCALENDAR