BEGIN:VCALENDAR
VERSION:2.0
PRODID:-//eventon.com NONSGML v1.0//EN
CALSCALE:GREGORIAN
METHOD:PUBLISH
BEGIN:VEVENT
UID:69e5e97f4ba50
DTSTAMP:20260420T085319Z
DTSTART:20211129
DTEND:20211130
LOCATION:
SUMMARY:Booklist online ordering closes
DESCRIPTION:Booklist online ordering closes\nhttps://warriapendips.wa.edu.a
 u/events/booklist-online-ordering-closes/
URL:https://warriapendips.wa.edu.au/events/booklist-online-ordering-closes/
END:VEVENT
END:VCALENDAR