BEGIN:VCALENDAR
VERSION:2.0
PRODID:-//eventon.com NONSGML v1.0//EN
CALSCALE:GREGORIAN
METHOD:PUBLISH
BEGIN:VEVENT
UID:69e4d8727bb18
DTSTAMP:20260419T132818Z
DTSTART:20211126T010000Z
DTEND:20211126T155000Z
LOCATION:
SUMMARY:Assembly Room 2
DESCRIPTION:Assembly Room 2\nhttps://warriapendips.wa.edu.au/events/assembl
 y-room-2/
URL:https://warriapendips.wa.edu.au/events/assembly-room-2/
END:VEVENT
END:VCALENDAR