BEGIN:VCALENDAR
VERSION:2.0
PRODID:-//eventon.com NONSGML v1.0//EN
CALSCALE:GREGORIAN
METHOD:PUBLISH
BEGIN:VEVENT
UID:69e5fd46b34e9
DTSTAMP:20260420T101742Z
DTSTART:20211029T010000Z
DTEND:20211029T155000Z
LOCATION:
SUMMARY:Assembly Room 6
DESCRIPTION:Assembly Room 6\nhttps://warriapendips.wa.edu.au/events/assembl
 y-room-6/
URL:https://warriapendips.wa.edu.au/events/assembly-room-6/
END:VEVENT
END:VCALENDAR