BEGIN:VCALENDAR
VERSION:2.0
PRODID:-//eventon.com NONSGML v1.0//EN
CALSCALE:GREGORIAN
METHOD:PUBLISH
BEGIN:VEVENT
UID:69e5fb86e67f8
DTSTAMP:20260420T101014Z
DTSTART:20211011
DTEND:20211012
LOCATION:
SUMMARY:Staff Development Day
DESCRIPTION:Staff Development Day\nhttps://warriapendips.wa.edu.au/events/s
 taff-development-day/
URL:https://warriapendips.wa.edu.au/events/staff-development-day/
END:VEVENT
END:VCALENDAR