BEGIN:VCALENDAR
VERSION:2.0
PRODID:-//eventon.com NONSGML v1.0//EN
CALSCALE:GREGORIAN
METHOD:PUBLISH
BEGIN:VEVENT
UID:69e5fb8704c47
DTSTAMP:20260420T101015Z
DTSTART:20220902
DTEND:20220903
LOCATION:
SUMMARY:NAIDOC Assembly
DESCRIPTION:NAIDOC Assembly\nhttps://warriapendips.wa.edu.au/events/naidoc-
 assembly/
URL:https://warriapendips.wa.edu.au/events/naidoc-assembly/
END:VEVENT
END:VCALENDAR