BEGIN:VCALENDAR
VERSION:2.0
PRODID:-//eventon.com NONSGML v1.0//EN
CALSCALE:GREGORIAN
METHOD:PUBLISH
BEGIN:VEVENT
UID:69e5e8e3b7e78
DTSTAMP:20260420T085043Z
DTSTART:20220826
DTEND:20220827
LOCATION:
SUMMARY:P&C Father's Day Raffle Drawn
DESCRIPTION:P&C Father's Day Raffle Drawn\nhttps://warriapendips.wa.edu.au/
 events/pc-fathers-day-raffle-drawn/
URL:https://warriapendips.wa.edu.au/events/pc-fathers-day-raffle-drawn/
END:VEVENT
END:VCALENDAR