BEGIN:VCALENDAR
VERSION:2.0
PRODID:-//eventon.com NONSGML v1.0//EN
CALSCALE:GREGORIAN
METHOD:PUBLISH
BEGIN:VEVENT
UID:69e5e9196b316
DTSTAMP:20260420T085137Z
DTSTART:20220822
DTEND:20220823
LOCATION:
SUMMARY:Book Sales
DESCRIPTION:Book Sales\nhttps://warriapendips.wa.edu.au/events/book-sales/
URL:https://warriapendips.wa.edu.au/events/book-sales/
END:VEVENT
END:VCALENDAR