BEGIN:VCALENDAR
VERSION:2.0
PRODID:-//eventon.com NONSGML v1.0//EN
CALSCALE:GREGORIAN
METHOD:PUBLISH
BEGIN:VEVENT
UID:69e5e9298fa92
DTSTAMP:20260420T085153Z
DTSTART:20220719
DTEND:20220720
LOCATION:
SUMMARY:Students commence Term 3
DESCRIPTION:Students commence Term 3\nhttps://warriapendips.wa.edu.au/event
 s/students-commence-term-3-2/
URL:https://warriapendips.wa.edu.au/events/students-commence-term-3-2/
END:VEVENT
END:VCALENDAR