BEGIN:VCALENDAR
VERSION:2.0
PRODID:-//eventon.com NONSGML v1.0//EN
CALSCALE:GREGORIAN
METHOD:PUBLISH
BEGIN:VEVENT
UID:69e5e9369e972
DTSTAMP:20260420T085206Z
DTSTART:20220628
DTEND:20220629
LOCATION:
SUMMARY:Lightening Carnival
DESCRIPTION:Lightening Carnival\nhttps://warriapendips.wa.edu.au/events/lig
 htening-carnival/
URL:https://warriapendips.wa.edu.au/events/lightening-carnival/
END:VEVENT
END:VCALENDAR