BEGIN:VCALENDAR
VERSION:2.0
PRODID:-//eventon.com NONSGML v1.0//EN
CALSCALE:GREGORIAN
METHOD:PUBLISH
BEGIN:VEVENT
UID:69e5e93df417f
DTSTAMP:20260420T085213Z
DTSTART:20220520T010000Z
DTEND:20220520T155000Z
LOCATION:
SUMMARY:P&C Meeting
DESCRIPTION:P&C Meeting\nhttps://warriapendips.wa.edu.au/events/pc-meeting-
 2/
URL:https://warriapendips.wa.edu.au/events/pc-meeting-2/
END:VEVENT
END:VCALENDAR