BEGIN:VCALENDAR
VERSION:2.0
PRODID:-//eventon.com NONSGML v1.0//EN
CALSCALE:GREGORIAN
METHOD:PUBLISH
BEGIN:VEVENT
UID:69e5e8d7d4718
DTSTAMP:20260420T085031Z
DTSTART:20220701
DTEND:20220702
LOCATION:
SUMMARY:P&C PJ Day
DESCRIPTION:P&C PJ Day\nhttps://warriapendips.wa.edu.au/events/pc-pj-day/
URL:https://warriapendips.wa.edu.au/events/pc-pj-day/
END:VEVENT
END:VCALENDAR