BEGIN:VCALENDAR
VERSION:2.0
PRODID:-//eventon.com NONSGML v1.0//EN
CALSCALE:GREGORIAN
METHOD:PUBLISH
BEGIN:VEVENT
UID:69e5fcc05db5a
DTSTAMP:20260420T101528Z
DTSTART:20220628
DTEND:20220629
LOCATION:
SUMMARY:Students Reports due home
DESCRIPTION:Students Reports due home\nhttps://warriapendips.wa.edu.au/even
 ts/students-reports-due-home/
URL:https://warriapendips.wa.edu.au/events/students-reports-due-home/
END:VEVENT
END:VCALENDAR