BEGIN:VCALENDAR
VERSION:2.0
PRODID:-//eventon.com NONSGML v1.0//EN
CALSCALE:GREGORIAN
METHOD:PUBLISH
BEGIN:VEVENT
UID:69e5e8e3bc32f
DTSTAMP:20260420T085043Z
DTSTART:20220601T070000Z
DTEND:20220601T155000Z
LOCATION:
SUMMARY:School Board Meeting
DESCRIPTION:School Board Meeting\nhttps://warriapendips.wa.edu.au/events/sc
 hool-board-meeting-3/
URL:https://warriapendips.wa.edu.au/events/school-board-meeting-3/
END:VEVENT
END:VCALENDAR